BEGIN:VCALENDAR
VERSION:2.0
PRODID:-//Scappoose Bay Watershed - ECPv6.15.20//NONSGML v1.0//EN
CALSCALE:GREGORIAN
METHOD:PUBLISH
X-ORIGINAL-URL:https://www.scappoosebay-wc.org
X-WR-CALDESC:Events for Scappoose Bay Watershed
REFRESH-INTERVAL;VALUE=DURATION:PT1H
X-Robots-Tag:noindex
X-PUBLISHED-TTL:PT1H
BEGIN:VTIMEZONE
TZID:America/Los_Angeles
BEGIN:DAYLIGHT
TZOFFSETFROM:-0800
TZOFFSETTO:-0700
TZNAME:PDT
DTSTART:20210314T100000
END:DAYLIGHT
BEGIN:STANDARD
TZOFFSETFROM:-0700
TZOFFSETTO:-0800
TZNAME:PST
DTSTART:20211107T090000
END:STANDARD
BEGIN:DAYLIGHT
TZOFFSETFROM:-0800
TZOFFSETTO:-0700
TZNAME:PDT
DTSTART:20220313T100000
END:DAYLIGHT
BEGIN:STANDARD
TZOFFSETFROM:-0700
TZOFFSETTO:-0800
TZNAME:PST
DTSTART:20221106T090000
END:STANDARD
BEGIN:DAYLIGHT
TZOFFSETFROM:-0800
TZOFFSETTO:-0700
TZNAME:PDT
DTSTART:20230312T100000
END:DAYLIGHT
BEGIN:STANDARD
TZOFFSETFROM:-0700
TZOFFSETTO:-0800
TZNAME:PST
DTSTART:20231105T090000
END:STANDARD
END:VTIMEZONE
BEGIN:VEVENT
DTSTART;TZID=America/Los_Angeles:20220810T190000
DTEND;TZID=America/Los_Angeles:20220810T210000
DTSTAMP:20260424T044301
CREATED:20210928T183207Z
LAST-MODIFIED:20220505T183656Z
UID:5459-1660158000-1660165200@www.scappoosebay-wc.org
SUMMARY:Council Board Meeting (August 2022-Conference Call) UPDATE
DESCRIPTION:August Board Meeting\nVideo Conference Call for Public Attendees\nPlease note: The Public is invited to attend via a conference call (i.e.\, not in person at the SBWC office). \nThe Council Board meets on the second Wednesday evening of every month. This meeting is scheduled from 7:00 pm – 9:00 pm. Usual topics include updates on current projects and the nursery\, plus regular business requirements. The public is welcome at all meetings. View past meeting minutes and access the agenda and reports for the upcoming meeting. If you have questions prior to the call\, please email info@scappoosebay-wc.org. \nClick here to join the online meeting \nVideo:\nMeeting ID: 925 3268 6436\nPasscode: 847215\nDialing in:\nDial-in number (US): 1-253-215-8782\,\nMeeting ID: 925 3268 6436\nPasscode: 847215\n\nMessage and data rates may apply.
URL:https://www.scappoosebay-wc.org/event/council-board-meeting-august-2022-conference-call/
LOCATION:OR
ATTACH;FMTTYPE=image/jpeg:https://www.scappoosebay-wc.org/wp-content/uploads/2021/07/TomMyers_wildlife-E0BC8E10-589A-4B82-81CB-0ACA6BB72BE9_1_201_a-scaled-1.jpeg
END:VEVENT
END:VCALENDAR