BEGIN:VCALENDAR
VERSION:2.0
PRODID:-//Scappoose Bay Watershed - ECPv6.15.20//NONSGML v1.0//EN
CALSCALE:GREGORIAN
METHOD:PUBLISH
X-WR-CALNAME:Scappoose Bay Watershed
X-ORIGINAL-URL:https://www.scappoosebay-wc.org
X-WR-CALDESC:Events for Scappoose Bay Watershed
REFRESH-INTERVAL;VALUE=DURATION:PT1H
X-Robots-Tag:noindex
X-PUBLISHED-TTL:PT1H
BEGIN:VTIMEZONE
TZID:America/Los_Angeles
BEGIN:DAYLIGHT
TZOFFSETFROM:-0800
TZOFFSETTO:-0700
TZNAME:PDT
DTSTART:20230312T100000
END:DAYLIGHT
BEGIN:STANDARD
TZOFFSETFROM:-0700
TZOFFSETTO:-0800
TZNAME:PST
DTSTART:20231105T090000
END:STANDARD
BEGIN:DAYLIGHT
TZOFFSETFROM:-0800
TZOFFSETTO:-0700
TZNAME:PDT
DTSTART:20240310T100000
END:DAYLIGHT
BEGIN:STANDARD
TZOFFSETFROM:-0700
TZOFFSETTO:-0800
TZNAME:PST
DTSTART:20241103T090000
END:STANDARD
BEGIN:DAYLIGHT
TZOFFSETFROM:-0800
TZOFFSETTO:-0700
TZNAME:PDT
DTSTART:20250309T100000
END:DAYLIGHT
BEGIN:STANDARD
TZOFFSETFROM:-0700
TZOFFSETTO:-0800
TZNAME:PST
DTSTART:20251102T090000
END:STANDARD
END:VTIMEZONE
BEGIN:VEVENT
DTSTART;TZID=America/Los_Angeles:20241007T160000
DTEND;TZID=America/Los_Angeles:20241007T180000
DTSTAMP:20260424T042529
CREATED:20240909T212859Z
LAST-MODIFIED:20240916T202659Z
UID:6172-1728316800-1728324000@www.scappoosebay-wc.org
SUMMARY:Plant Sale Volunteer Session
DESCRIPTION:Join us Monday\, October 7th as we prepare for our annual Fall Plant Sale! \nDuring this volunteer session we will be focusing on any last minute details that need done before our sale on October 12th. \n\nWeeding plants or walkways\nCleanup of equipment (pots\, wagons\, plants\, etc)\nMoving plants around/staging\n\nWhere: Our Native Plant Nursery behind the Scappoose High School \nWhen: October 7th from 4pm to 6pm \nThis volunteer session is open to all ages\, and we welcome everyone to join us!
URL:https://www.scappoosebay-wc.org/event/plant-sale-volunteer-session/
LOCATION:Native Plant Nursery\, 33700 SE High School Way\, Scappoose\, OR\, 97056\, United States
ATTACH;FMTTYPE=image/jpeg:https://www.scappoosebay-wc.org/wp-content/uploads/20240530_092946-scaled.jpg
END:VEVENT
END:VCALENDAR