BEGIN:VCALENDAR
VERSION:2.0
PRODID:-//Scappoose Bay Watershed - ECPv6.15.20//NONSGML v1.0//EN
CALSCALE:GREGORIAN
METHOD:PUBLISH
X-WR-CALNAME:Scappoose Bay Watershed
X-ORIGINAL-URL:https://www.scappoosebay-wc.org
X-WR-CALDESC:Events for Scappoose Bay Watershed
REFRESH-INTERVAL;VALUE=DURATION:PT1H
X-Robots-Tag:noindex
X-PUBLISHED-TTL:PT1H
BEGIN:VTIMEZONE
TZID:America/Los_Angeles
BEGIN:DAYLIGHT
TZOFFSETFROM:-0800
TZOFFSETTO:-0700
TZNAME:PDT
DTSTART:20240310T100000
END:DAYLIGHT
BEGIN:STANDARD
TZOFFSETFROM:-0700
TZOFFSETTO:-0800
TZNAME:PST
DTSTART:20241103T090000
END:STANDARD
BEGIN:DAYLIGHT
TZOFFSETFROM:-0800
TZOFFSETTO:-0700
TZNAME:PDT
DTSTART:20250309T100000
END:DAYLIGHT
BEGIN:STANDARD
TZOFFSETFROM:-0700
TZOFFSETTO:-0800
TZNAME:PST
DTSTART:20251102T090000
END:STANDARD
BEGIN:DAYLIGHT
TZOFFSETFROM:-0800
TZOFFSETTO:-0700
TZNAME:PDT
DTSTART:20260308T100000
END:DAYLIGHT
BEGIN:STANDARD
TZOFFSETFROM:-0700
TZOFFSETTO:-0800
TZNAME:PST
DTSTART:20261101T090000
END:STANDARD
END:VTIMEZONE
BEGIN:VEVENT
DTSTART;TZID=America/Los_Angeles:20250122T160000
DTEND;TZID=America/Los_Angeles:20250122T180000
DTSTAMP:20260420T062118
CREATED:20241210T041711Z
LAST-MODIFIED:20241216T222133Z
UID:6234-1737561600-1737568800@www.scappoosebay-wc.org
SUMMARY:Local Environmental Health Forum
DESCRIPTION:Join us on January 22nd from 4 – 6 pm via Zoom to learn about local environmental health programs and updates: \n\nHealthy Fish Consumption Program\nDEQ Cleanup Program: Armstrong site\nTotal Daily Maximum Load (TMDL) Program\n\nRegister Here
URL:https://www.scappoosebay-wc.org/event/local-environmental-health-forum/
LOCATION:OR
ATTACH;FMTTYPE=image/png:https://www.scappoosebay-wc.org/wp-content/uploads/Local-Environmental-Health-Forum-1.png
END:VEVENT
END:VCALENDAR