BEGIN:VCALENDAR
VERSION:2.0
PRODID:-//Scappoose Bay Watershed - ECPv6.15.20//NONSGML v1.0//EN
CALSCALE:GREGORIAN
METHOD:PUBLISH
X-WR-CALNAME:Scappoose Bay Watershed
X-ORIGINAL-URL:https://www.scappoosebay-wc.org
X-WR-CALDESC:Events for Scappoose Bay Watershed
REFRESH-INTERVAL;VALUE=DURATION:PT1H
X-Robots-Tag:noindex
X-PUBLISHED-TTL:PT1H
BEGIN:VTIMEZONE
TZID:America/Los_Angeles
BEGIN:DAYLIGHT
TZOFFSETFROM:-0800
TZOFFSETTO:-0700
TZNAME:PDT
DTSTART:20240310T100000
END:DAYLIGHT
BEGIN:STANDARD
TZOFFSETFROM:-0700
TZOFFSETTO:-0800
TZNAME:PST
DTSTART:20241103T090000
END:STANDARD
BEGIN:DAYLIGHT
TZOFFSETFROM:-0800
TZOFFSETTO:-0700
TZNAME:PDT
DTSTART:20250309T100000
END:DAYLIGHT
BEGIN:STANDARD
TZOFFSETFROM:-0700
TZOFFSETTO:-0800
TZNAME:PST
DTSTART:20251102T090000
END:STANDARD
BEGIN:DAYLIGHT
TZOFFSETFROM:-0800
TZOFFSETTO:-0700
TZNAME:PDT
DTSTART:20260308T100000
END:DAYLIGHT
BEGIN:STANDARD
TZOFFSETFROM:-0700
TZOFFSETTO:-0800
TZNAME:PST
DTSTART:20261101T090000
END:STANDARD
END:VTIMEZONE
BEGIN:VEVENT
DTSTART;TZID=America/Los_Angeles:20250301T090000
DTEND;TZID=America/Los_Angeles:20250301T120000
DTSTAMP:20260423T030346
CREATED:20241211T200937Z
LAST-MODIFIED:20250213T232737Z
UID:6240-1740819600-1740830400@www.scappoosebay-wc.org
SUMMARY:Dig it\, Plant it\, Do it Again! Volunteer Planting at Scappoose Veteran's Park
DESCRIPTION:Plant trees in Veteran’s Park to continue our work to enhance native habitat and improve the water quality of South Scappoose Creek in partnership with the Lower Columbia Estuary Partnership. \nPre-registration is required. \nThis event is hosted by the Lower Columbia Estuary Partnership for more information or to register for the event: Click Here
URL:https://www.scappoosebay-wc.org/event/dig-it-plant-it-do-it-again-volunteer-planting-at-scappoose-veterans-park/
LOCATION:Veterans Park – Scappoose\, Or\, 52590 Captain Roger Kucera Way\, Scappoose\, OR\, 97056\, United States
ATTACH;FMTTYPE=image/jpeg:https://www.scappoosebay-wc.org/wp-content/uploads/Veterans-Park-NATIVE-PLANTINGS.jpg
ORGANIZER;CN="Lower Columbia Estuary Partnership":MAILTO:info@estuarypartnership.org
END:VEVENT
BEGIN:VEVENT
DTSTART;TZID=America/Los_Angeles:20250301T100000
DTEND;TZID=America/Los_Angeles:20250301T120000
DTSTAMP:20260423T030346
CREATED:20250214T000256Z
LAST-MODIFIED:20250214T000256Z
UID:6301-1740823200-1740830400@www.scappoosebay-wc.org
SUMMARY:Pruning Fruit Trees Workshop
DESCRIPTION:Presented by OSU Extension Service: Learn expert techniques to keep your fruit trees healthy and productive\, plus get valuable tips on tool cleaning and care. Bring your own tools for personalised guidance and practice.  Registration required. \nClick Here for more information and to register \n 
URL:https://www.scappoosebay-wc.org/event/pruning-fruit-trees-workshop/
LOCATION:Master Gardener Demonstration Garden Columbia County Fairgrounds\, 58892 Saulser Rd\, St Helens\, OR\, 97051\, United States
ATTACH;FMTTYPE=image/jpeg:https://www.scappoosebay-wc.org/wp-content/uploads/fruit-tree-pruning-flyer.pdf.jpg
END:VEVENT
END:VCALENDAR