BEGIN:VCALENDAR
VERSION:2.0
PRODID:-//Scappoose Bay Watershed - ECPv6.15.20//NONSGML v1.0//EN
CALSCALE:GREGORIAN
METHOD:PUBLISH
X-WR-CALNAME:Scappoose Bay Watershed
X-ORIGINAL-URL:https://www.scappoosebay-wc.org
X-WR-CALDESC:Events for Scappoose Bay Watershed
REFRESH-INTERVAL;VALUE=DURATION:PT1H
X-Robots-Tag:noindex
X-PUBLISHED-TTL:PT1H
BEGIN:VTIMEZONE
TZID:America/Los_Angeles
BEGIN:DAYLIGHT
TZOFFSETFROM:-0800
TZOFFSETTO:-0700
TZNAME:PDT
DTSTART:20240310T100000
END:DAYLIGHT
BEGIN:STANDARD
TZOFFSETFROM:-0700
TZOFFSETTO:-0800
TZNAME:PST
DTSTART:20241103T090000
END:STANDARD
BEGIN:DAYLIGHT
TZOFFSETFROM:-0800
TZOFFSETTO:-0700
TZNAME:PDT
DTSTART:20250309T100000
END:DAYLIGHT
BEGIN:STANDARD
TZOFFSETFROM:-0700
TZOFFSETTO:-0800
TZNAME:PST
DTSTART:20251102T090000
END:STANDARD
BEGIN:DAYLIGHT
TZOFFSETFROM:-0800
TZOFFSETTO:-0700
TZNAME:PDT
DTSTART:20260308T100000
END:DAYLIGHT
BEGIN:STANDARD
TZOFFSETFROM:-0700
TZOFFSETTO:-0800
TZNAME:PST
DTSTART:20261101T090000
END:STANDARD
END:VTIMEZONE
BEGIN:VEVENT
DTSTART;TZID=America/Los_Angeles:20250407T160000
DTEND;TZID=America/Los_Angeles:20250407T180000
DTSTAMP:20260423T074309
CREATED:20250305T200403Z
LAST-MODIFIED:20250305T200403Z
UID:6334-1744041600-1744048800@www.scappoosebay-wc.org
SUMMARY:Native Plant Nursery - Volunteer Session
DESCRIPTION:Join us on April 7th from 4 pm to 6 pm for a Native Plant Nursery Volunteer Session to help us gear up for our April Native Plant Sale. Volunteers will be helping with a variety of tasks including: \n\nmoving plants\nweeding\ntaping off areas where plants are not for sale (because they will be used for restoration projects)\nputting up signs\n\n 
URL:https://www.scappoosebay-wc.org/event/native-plant-nursery-volunteer-session/
LOCATION:Native Plant Nursery\, 33700 SE High School Way\, Scappoose\, OR\, 97056\, United States
END:VEVENT
END:VCALENDAR