BEGIN:VCALENDAR
VERSION:2.0
PRODID:-//Scappoose Bay Watershed - ECPv6.15.20//NONSGML v1.0//EN
CALSCALE:GREGORIAN
METHOD:PUBLISH
X-WR-CALNAME:Scappoose Bay Watershed
X-ORIGINAL-URL:https://www.scappoosebay-wc.org
X-WR-CALDESC:Events for Scappoose Bay Watershed
REFRESH-INTERVAL;VALUE=DURATION:PT1H
X-Robots-Tag:noindex
X-PUBLISHED-TTL:PT1H
BEGIN:VTIMEZONE
TZID:America/Los_Angeles
BEGIN:DAYLIGHT
TZOFFSETFROM:-0800
TZOFFSETTO:-0700
TZNAME:PDT
DTSTART:20240310T100000
END:DAYLIGHT
BEGIN:STANDARD
TZOFFSETFROM:-0700
TZOFFSETTO:-0800
TZNAME:PST
DTSTART:20241103T090000
END:STANDARD
BEGIN:DAYLIGHT
TZOFFSETFROM:-0800
TZOFFSETTO:-0700
TZNAME:PDT
DTSTART:20250309T100000
END:DAYLIGHT
BEGIN:STANDARD
TZOFFSETFROM:-0700
TZOFFSETTO:-0800
TZNAME:PST
DTSTART:20251102T090000
END:STANDARD
BEGIN:DAYLIGHT
TZOFFSETFROM:-0800
TZOFFSETTO:-0700
TZNAME:PDT
DTSTART:20260308T100000
END:DAYLIGHT
BEGIN:STANDARD
TZOFFSETFROM:-0700
TZOFFSETTO:-0800
TZNAME:PST
DTSTART:20261101T090000
END:STANDARD
END:VTIMEZONE
BEGIN:VEVENT
DTSTART;TZID=America/Los_Angeles:20250814T180000
DTEND;TZID=America/Los_Angeles:20250814T193000
DTSTAMP:20260423T043119
CREATED:20250730T235547Z
LAST-MODIFIED:20250730T235548Z
UID:6416-1755194400-1755199800@www.scappoosebay-wc.org
SUMMARY:LCRWC Celebration Event
DESCRIPTION:Join the Lower Columbia River Watershed Council (LCRWC) for an evening of fun! \nLearn about your local watersheds and what they can do for you. Light snacks provided. \nWhen: Thursday\, August 14\, 2025\,  6:00 – 7:30 PM\nWhere: Clatskanie Food Hub: 80 NE Art Steele St.\, Clatskanie\, OR 97016
URL:https://www.scappoosebay-wc.org/event/lcrwc-celebration-event/
LOCATION:OR
ATTACH;FMTTYPE=image/jpeg:https://www.scappoosebay-wc.org/wp-content/uploads/LCRWC-Celebration-Event.jpg
END:VEVENT
END:VCALENDAR