BEGIN:VCALENDAR
VERSION:2.0
PRODID:-//Scappoose Bay Watershed - ECPv6.15.20//NONSGML v1.0//EN
CALSCALE:GREGORIAN
METHOD:PUBLISH
X-ORIGINAL-URL:https://www.scappoosebay-wc.org
X-WR-CALDESC:Events for Scappoose Bay Watershed
REFRESH-INTERVAL;VALUE=DURATION:PT1H
X-Robots-Tag:noindex
X-PUBLISHED-TTL:PT1H
BEGIN:VTIMEZONE
TZID:America/Los_Angeles
BEGIN:DAYLIGHT
TZOFFSETFROM:-0800
TZOFFSETTO:-0700
TZNAME:PDT
DTSTART:20240310T100000
END:DAYLIGHT
BEGIN:STANDARD
TZOFFSETFROM:-0700
TZOFFSETTO:-0800
TZNAME:PST
DTSTART:20241103T090000
END:STANDARD
BEGIN:DAYLIGHT
TZOFFSETFROM:-0800
TZOFFSETTO:-0700
TZNAME:PDT
DTSTART:20250309T100000
END:DAYLIGHT
BEGIN:STANDARD
TZOFFSETFROM:-0700
TZOFFSETTO:-0800
TZNAME:PST
DTSTART:20251102T090000
END:STANDARD
BEGIN:DAYLIGHT
TZOFFSETFROM:-0800
TZOFFSETTO:-0700
TZNAME:PDT
DTSTART:20260308T100000
END:DAYLIGHT
BEGIN:STANDARD
TZOFFSETFROM:-0700
TZOFFSETTO:-0800
TZNAME:PST
DTSTART:20261101T090000
END:STANDARD
END:VTIMEZONE
BEGIN:VEVENT
DTSTART;TZID=America/Los_Angeles:20251011T090000
DTEND;TZID=America/Los_Angeles:20251011T140000
DTSTAMP:20260424T060142
CREATED:20250425T182225Z
LAST-MODIFIED:20250930T004923Z
UID:6358-1760173200-1760191200@www.scappoosebay-wc.org
SUMMARY:Fall Native Plant Sale 2025
DESCRIPTION:Join us for our annual Fall Native Plant sale! \nThe sale offers many native plants\, at great prices\, ready for your landscape. Our staff and volunteers will be available to help choose plants\, suggest gardening ideas\, and provide information on establishing and maintaining native vegetation. \nThe sale goes from 9:00 a.m. – 2:00 p.m. at our nursery\, located behind Scappoose High School. Address: 33700 SE High School Way\, Scappoose\, OR 97056 [Directions]   \n\nThe sale will be in-person only at our nursery (i.e.\, no pre-orders or online store).\nAvailable plant list here\nWe will follow current health guidelines in place on the day of the sale.\nSpecies availability will be posted a few weeks before the sale\nTo find helpful information about our plants\, see Native Plant Nursery website\n\nGo to: Native Plant Resources section\, Quick Reference Guide\, Scappoose Bay Watershed Native Plant List\n\n\n\nFor more information\, email us at info@scappoosebay-wc.org \n 
URL:https://www.scappoosebay-wc.org/event/fall-native-plant-sale-2025/
LOCATION:OR
ATTACH;FMTTYPE=image/png:https://www.scappoosebay-wc.org/wp-content/uploads/Slide1.png
END:VEVENT
END:VCALENDAR