BEGIN:VCALENDAR
VERSION:2.0
PRODID:-//Scappoose Bay Watershed - ECPv6.15.20//NONSGML v1.0//EN
CALSCALE:GREGORIAN
METHOD:PUBLISH
X-ORIGINAL-URL:https://www.scappoosebay-wc.org
X-WR-CALDESC:Events for Scappoose Bay Watershed
REFRESH-INTERVAL;VALUE=DURATION:PT1H
X-Robots-Tag:noindex
X-PUBLISHED-TTL:PT1H
BEGIN:VTIMEZONE
TZID:America/Los_Angeles
BEGIN:DAYLIGHT
TZOFFSETFROM:-0800
TZOFFSETTO:-0700
TZNAME:PDT
DTSTART:20240310T100000
END:DAYLIGHT
BEGIN:STANDARD
TZOFFSETFROM:-0700
TZOFFSETTO:-0800
TZNAME:PST
DTSTART:20241103T090000
END:STANDARD
BEGIN:DAYLIGHT
TZOFFSETFROM:-0800
TZOFFSETTO:-0700
TZNAME:PDT
DTSTART:20250309T100000
END:DAYLIGHT
BEGIN:STANDARD
TZOFFSETFROM:-0700
TZOFFSETTO:-0800
TZNAME:PST
DTSTART:20251102T090000
END:STANDARD
BEGIN:DAYLIGHT
TZOFFSETFROM:-0800
TZOFFSETTO:-0700
TZNAME:PDT
DTSTART:20260308T100000
END:DAYLIGHT
BEGIN:STANDARD
TZOFFSETFROM:-0700
TZOFFSETTO:-0800
TZNAME:PST
DTSTART:20261101T090000
END:STANDARD
END:VTIMEZONE
BEGIN:VEVENT
DTSTART;TZID=America/Los_Angeles:20251016T090000
DTEND;TZID=America/Los_Angeles:20251016T120000
DTSTAMP:20260424T060000
CREATED:20250930T173747Z
LAST-MODIFIED:20250930T173748Z
UID:6479-1760605200-1760616000@www.scappoosebay-wc.org
SUMMARY:Getting Started with Digital Mapping Apps
DESCRIPTION:Get the most out of digital mapping apps on your smartphone or tablet. Using two commonly available digital mapping applications\, Avenza and CalTopo\, the instructors will lead you through detailed tutorials and demonstrate how to integrate these digital tools into daily forest and land management activities. Features Alicia Christensen and Norma Kline (OSU Extension Foresters) as instructors. Funding for this program is provided by USDA NIFA RREA. Computer and smartphone/tablet required.
URL:https://www.scappoosebay-wc.org/event/getting-started-with-digital-mapping-apps/
LOCATION:Columbia County OSU Extension Office\, 505 North Columbia River Highway\, St Helens\, OR\, 97051\, United States
ATTACH;FMTTYPE=image/png:https://www.scappoosebay-wc.org/wp-content/uploads/digitalmapping_field_flier_cc_oct2025.pdf.png
END:VEVENT
END:VCALENDAR