BEGIN:VCALENDAR
VERSION:2.0
PRODID:-//Scappoose Bay Watershed - ECPv6.15.20//NONSGML v1.0//EN
CALSCALE:GREGORIAN
METHOD:PUBLISH
X-ORIGINAL-URL:https://www.scappoosebay-wc.org
X-WR-CALDESC:Events for Scappoose Bay Watershed
REFRESH-INTERVAL;VALUE=DURATION:PT1H
X-Robots-Tag:noindex
X-PUBLISHED-TTL:PT1H
BEGIN:VTIMEZONE
TZID:America/Los_Angeles
BEGIN:DAYLIGHT
TZOFFSETFROM:-0800
TZOFFSETTO:-0700
TZNAME:PDT
DTSTART:20240310T100000
END:DAYLIGHT
BEGIN:STANDARD
TZOFFSETFROM:-0700
TZOFFSETTO:-0800
TZNAME:PST
DTSTART:20241103T090000
END:STANDARD
BEGIN:DAYLIGHT
TZOFFSETFROM:-0800
TZOFFSETTO:-0700
TZNAME:PDT
DTSTART:20250309T100000
END:DAYLIGHT
BEGIN:STANDARD
TZOFFSETFROM:-0700
TZOFFSETTO:-0800
TZNAME:PST
DTSTART:20251102T090000
END:STANDARD
BEGIN:DAYLIGHT
TZOFFSETFROM:-0800
TZOFFSETTO:-0700
TZNAME:PDT
DTSTART:20260308T100000
END:DAYLIGHT
BEGIN:STANDARD
TZOFFSETFROM:-0700
TZOFFSETTO:-0800
TZNAME:PST
DTSTART:20261101T090000
END:STANDARD
END:VTIMEZONE
BEGIN:VEVENT
DTSTART;TZID=America/Los_Angeles:20251018T100000
DTEND;TZID=America/Los_Angeles:20251018T120000
DTSTAMP:20260424T060144
CREATED:20250806T172908Z
LAST-MODIFIED:20250819T190550Z
UID:6422-1760781600-1760788800@www.scappoosebay-wc.org
SUMMARY:Native Plant Propagation Class - October 2025
DESCRIPTION:October 18th from 10 am – 12 pm \nJoin us for a morning of plant propagation. You will: \n\nlearn propagation best practices\nmix propagation media\ncreate plant cuttings\ntake home your new native plant cuttings.\n\nThis class is free but there is a suggested $10 donation to cover materials and help put on future classes \nEnroll Here
URL:https://www.scappoosebay-wc.org/event/native-plant-propagation-class-oct/
LOCATION:Native Plant Nursery\, 33700 SE High School Way\, Scappoose\, OR\, 97056\, United States
ATTACH;FMTTYPE=image/png:https://www.scappoosebay-wc.org/wp-content/uploads/Attend-a-Native-Plant-Propagation-Class-1.png
END:VEVENT
END:VCALENDAR