BEGIN:VCALENDAR
VERSION:2.0
PRODID:-//Scappoose Bay Watershed - ECPv6.15.20//NONSGML v1.0//EN
CALSCALE:GREGORIAN
METHOD:PUBLISH
X-WR-CALNAME:Scappoose Bay Watershed
X-ORIGINAL-URL:https://www.scappoosebay-wc.org
X-WR-CALDESC:Events for Scappoose Bay Watershed
REFRESH-INTERVAL;VALUE=DURATION:PT1H
X-Robots-Tag:noindex
X-PUBLISHED-TTL:PT1H
BEGIN:VTIMEZONE
TZID:America/Los_Angeles
BEGIN:DAYLIGHT
TZOFFSETFROM:-0800
TZOFFSETTO:-0700
TZNAME:PDT
DTSTART:20240310T100000
END:DAYLIGHT
BEGIN:STANDARD
TZOFFSETFROM:-0700
TZOFFSETTO:-0800
TZNAME:PST
DTSTART:20241103T090000
END:STANDARD
BEGIN:DAYLIGHT
TZOFFSETFROM:-0800
TZOFFSETTO:-0700
TZNAME:PDT
DTSTART:20250309T100000
END:DAYLIGHT
BEGIN:STANDARD
TZOFFSETFROM:-0700
TZOFFSETTO:-0800
TZNAME:PST
DTSTART:20251102T090000
END:STANDARD
BEGIN:DAYLIGHT
TZOFFSETFROM:-0800
TZOFFSETTO:-0700
TZNAME:PDT
DTSTART:20260308T100000
END:DAYLIGHT
BEGIN:STANDARD
TZOFFSETFROM:-0700
TZOFFSETTO:-0800
TZNAME:PST
DTSTART:20261101T090000
END:STANDARD
END:VTIMEZONE
BEGIN:VEVENT
DTSTART;TZID=America/Los_Angeles:20251101T130000
DTEND;TZID=America/Los_Angeles:20251101T150000
DTSTAMP:20260424T042716
CREATED:20250818T192446Z
LAST-MODIFIED:20250930T174953Z
UID:6430-1762002000-1762009200@www.scappoosebay-wc.org
SUMMARY:Volunteer Work Party at Nob Hill Nature Park
DESCRIPTION:Scappoose Bay Watershed Council (SBWC) and Friends of Nob Hill Nature Park invite you to join the semi-annual volunteer work day on Saturday\, November 1st\, from 1 to 3 PM. We will pull ivy and put in native plants donated by SBWC at the lower park. Nob Hill Nature Park is an oak woodland overlooking the Columbia River. \nDress for the weather\, including rain gear if needed. Please bring gloves\, tools\, water and snacks. This work party takes place rain or shine. Meet at kiosk across from city water treatment plant at 451 Plymouth Street\, in St Helens. All are welcome. \nPre-registration is requested by Friday\, October 31st by emailing Scappoose Bay Watershed Council at info@scappoosebay-wc.org. We look forward to seeing you!
URL:https://www.scappoosebay-wc.org/event/volunteer-work-party-at-nob-hill-nature-park-8/
LOCATION:St. Helens Waste Water Treatment Plant – Nob Hill Work Party Meeting Location\, 451 Plymouth Street\, St. Helens\, Oregon
ATTACH;FMTTYPE=image/jpeg:https://www.scappoosebay-wc.org/wp-content/uploads/IMG_9950-rotated.jpg
END:VEVENT
END:VCALENDAR