BEGIN:VCALENDAR
VERSION:2.0
PRODID:-//Scappoose Bay Watershed - ECPv6.15.20//NONSGML v1.0//EN
CALSCALE:GREGORIAN
METHOD:PUBLISH
X-WR-CALNAME:Scappoose Bay Watershed
X-ORIGINAL-URL:https://www.scappoosebay-wc.org
X-WR-CALDESC:Events for Scappoose Bay Watershed
REFRESH-INTERVAL;VALUE=DURATION:PT1H
X-Robots-Tag:noindex
X-PUBLISHED-TTL:PT1H
BEGIN:VTIMEZONE
TZID:America/Los_Angeles
BEGIN:DAYLIGHT
TZOFFSETFROM:-0800
TZOFFSETTO:-0700
TZNAME:PDT
DTSTART:20250309T100000
END:DAYLIGHT
BEGIN:STANDARD
TZOFFSETFROM:-0700
TZOFFSETTO:-0800
TZNAME:PST
DTSTART:20251102T090000
END:STANDARD
BEGIN:DAYLIGHT
TZOFFSETFROM:-0800
TZOFFSETTO:-0700
TZNAME:PDT
DTSTART:20260308T100000
END:DAYLIGHT
BEGIN:STANDARD
TZOFFSETFROM:-0700
TZOFFSETTO:-0800
TZNAME:PST
DTSTART:20261101T090000
END:STANDARD
BEGIN:DAYLIGHT
TZOFFSETFROM:-0800
TZOFFSETTO:-0700
TZNAME:PDT
DTSTART:20270314T100000
END:DAYLIGHT
BEGIN:STANDARD
TZOFFSETFROM:-0700
TZOFFSETTO:-0800
TZNAME:PST
DTSTART:20271107T090000
END:STANDARD
END:VTIMEZONE
BEGIN:VEVENT
DTSTART;TZID=America/Los_Angeles:20260404T130000
DTEND;TZID=America/Los_Angeles:20260404T150000
DTSTAMP:20260420T045412
CREATED:20260218T000653Z
LAST-MODIFIED:20260218T000653Z
UID:6589-1775307600-1775314800@www.scappoosebay-wc.org
SUMMARY:Nob Hill Nature Park Volunteer Work Party
DESCRIPTION:Friends of Nob Hill Nature Park\, St Helens\, OR\nVolunteer Work Party – Saturday\, April 4\, 2026 \nScappoose Bay Watershed Council (SBWC) and Friends of Nob Hill Nature Park invite you to join the semi-annual volunteer work day on Saturday\, April 4\, from 1 to 3 PM. We will remove lunaria and blackberries\, and add native plants donated by SBWC at the lower park. Nob Hill Nature Park is an oak woodland overlooking the Columbia River. \nDress for the weather\, including rain gear if needed. Please bring gloves\, tools\, water and snacks; some also are provided. This work party takes place rain or shine. Meet at kiosk across from the city water treatment plant at 451 Plymouth Street\, in St Helens. All are welcome. \nPre-registration is requested by Friday\, April 3 by emailing Scappoose Bay Watershed Council: info@scappoosebay-wc.org. For day of event\, call 503-349-8586. We look forward to seeing you!
URL:https://www.scappoosebay-wc.org/event/nob-hill-nature-park-volunteer-work-party/
LOCATION:St. Helens Waste Water Treatment Plant – Nob Hill Work Party Meeting Location\, 451 Plymouth Street\, St. Helens\, Oregon
END:VEVENT
END:VCALENDAR