BEGIN:VCALENDAR
VERSION:2.0
PRODID:-//Scappoose Bay Watershed - ECPv6.15.20//NONSGML v1.0//EN
CALSCALE:GREGORIAN
METHOD:PUBLISH
X-WR-CALNAME:Scappoose Bay Watershed
X-ORIGINAL-URL:https://www.scappoosebay-wc.org
X-WR-CALDESC:Events for Scappoose Bay Watershed
REFRESH-INTERVAL;VALUE=DURATION:PT1H
X-Robots-Tag:noindex
X-PUBLISHED-TTL:PT1H
BEGIN:VTIMEZONE
TZID:America/Los_Angeles
BEGIN:DAYLIGHT
TZOFFSETFROM:-0800
TZOFFSETTO:-0700
TZNAME:PDT
DTSTART:20250309T100000
END:DAYLIGHT
BEGIN:STANDARD
TZOFFSETFROM:-0700
TZOFFSETTO:-0800
TZNAME:PST
DTSTART:20251102T090000
END:STANDARD
BEGIN:DAYLIGHT
TZOFFSETFROM:-0800
TZOFFSETTO:-0700
TZNAME:PDT
DTSTART:20260308T100000
END:DAYLIGHT
BEGIN:STANDARD
TZOFFSETFROM:-0700
TZOFFSETTO:-0800
TZNAME:PST
DTSTART:20261101T090000
END:STANDARD
BEGIN:DAYLIGHT
TZOFFSETFROM:-0800
TZOFFSETTO:-0700
TZNAME:PDT
DTSTART:20270314T100000
END:DAYLIGHT
BEGIN:STANDARD
TZOFFSETFROM:-0700
TZOFFSETTO:-0800
TZNAME:PST
DTSTART:20271107T090000
END:STANDARD
END:VTIMEZONE
BEGIN:VEVENT
DTSTART;TZID=America/Los_Angeles:20260328T090000
DTEND;TZID=America/Los_Angeles:20260328T123000
DTSTAMP:20260424T045257
CREATED:20260211T185914Z
LAST-MODIFIED:20260211T185915Z
UID:6570-1774688400-1774701000@www.scappoosebay-wc.org
SUMMARY:McCormick Park Volunteer Work Party
DESCRIPTION:Join the Friends of McCormick Park and Scappoose Bay Watershed Council for a volunteer work party on March 28th at 9 am – 12:30 pm to: \n\nRemove invasive plants\nCreate habitat\nAnd build community\n\nMeet us by the BMX Track. Come dressed for the weather. We will provide tools\, gloves\, and snacks.
URL:https://www.scappoosebay-wc.org/event/mccormick-park-volunteer-work-party/
LOCATION:McCormick Park\, 475 S 18th St\, St Helens\, OR\, 97051\, United States
ATTACH;FMTTYPE=image/png:https://www.scappoosebay-wc.org/wp-content/uploads/Untitled-3-scaled.png
END:VEVENT
BEGIN:VEVENT
DTSTART;TZID=America/Los_Angeles:20260404T130000
DTEND;TZID=America/Los_Angeles:20260404T150000
DTSTAMP:20260424T045257
CREATED:20260218T000653Z
LAST-MODIFIED:20260218T000653Z
UID:6589-1775307600-1775314800@www.scappoosebay-wc.org
SUMMARY:Nob Hill Nature Park Volunteer Work Party
DESCRIPTION:Friends of Nob Hill Nature Park\, St Helens\, OR\nVolunteer Work Party – Saturday\, April 4\, 2026 \nScappoose Bay Watershed Council (SBWC) and Friends of Nob Hill Nature Park invite you to join the semi-annual volunteer work day on Saturday\, April 4\, from 1 to 3 PM. We will remove lunaria and blackberries\, and add native plants donated by SBWC at the lower park. Nob Hill Nature Park is an oak woodland overlooking the Columbia River. \nDress for the weather\, including rain gear if needed. Please bring gloves\, tools\, water and snacks; some also are provided. This work party takes place rain or shine. Meet at kiosk across from the city water treatment plant at 451 Plymouth Street\, in St Helens. All are welcome. \nPre-registration is requested by Friday\, April 3 by emailing Scappoose Bay Watershed Council: info@scappoosebay-wc.org. For day of event\, call 503-349-8586. We look forward to seeing you!
URL:https://www.scappoosebay-wc.org/event/nob-hill-nature-park-volunteer-work-party/
LOCATION:St. Helens Waste Water Treatment Plant – Nob Hill Work Party Meeting Location\, 451 Plymouth Street\, St. Helens\, Oregon
END:VEVENT
BEGIN:VEVENT
DTSTART;TZID=America/Los_Angeles:20260411T090000
DTEND;TZID=America/Los_Angeles:20260411T140000
DTSTAMP:20260424T045257
CREATED:20251208T175101Z
LAST-MODIFIED:20260323T200204Z
UID:6514-1775898000-1775916000@www.scappoosebay-wc.org
SUMMARY:Spring Native Plant Sale 2026
DESCRIPTION:Join us for our annual Spring Native Plant sale! \nThe sale offers many native plants\, at great prices\, ready for your landscape. Our staff and volunteers will be available to help choose plants\, suggest gardening ideas\, and provide information on establishing and maintaining native vegetation. \nThe sale goes from 9:00 a.m. – 2:00 p.m. at our nursery\, located behind Scappoose High School. Address: 33700 SE High School Way\, Scappoose\, OR 97056 [Directions]   \n\nThe sale will be in-person only at our nursery (i.e.\, no pre-orders or online store).\nSpecies availability list here\nWe will follow current health guidelines in place on the day of the sale.\nTo find helpful information about our plants\, see Native Plant Nursery website\n\nGo to: Native Plant Resources section\, Quick Reference Guide\, Scappoose Bay Watershed Native Plant List\n\n\n\nFor more information\, email us at info@scappoosebay-wc.org \n 
URL:https://www.scappoosebay-wc.org/event/spring-native-plant-sale-2026/
LOCATION:Native Plant Nursery\, 33700 SE High School Way\, Scappoose\, OR\, 97056\, United States
ATTACH;FMTTYPE=image/png:https://www.scappoosebay-wc.org/wp-content/uploads/SBWNspringsale26.png
END:VEVENT
BEGIN:VEVENT
DTSTART;TZID=America/Los_Angeles:20260418T100000
DTEND;TZID=America/Los_Angeles:20260418T120000
DTSTAMP:20260424T045257
CREATED:20260323T172259Z
LAST-MODIFIED:20260323T172259Z
UID:6612-1776506400-1776513600@www.scappoosebay-wc.org
SUMMARY:Community Volunteer Ivy Pull Work Party
DESCRIPTION:Join us on April 18th 10 am – 12 noon with the Friends of Botanical Gardens for a Community Volunteer Ivy Pull Work Party. \nSBWC will provide tools\, gloves\, and snacks. Please wear weather appropriate clothing and bring a reusable water bottle. \nOn-Street Parking on Belton Road or nearby at Elks Lodge – Meet at Trailhead Sign \n 
URL:https://www.scappoosebay-wc.org/event/community-volunteer-ivy-pull-work-party/
LOCATION:OR
ATTACH;FMTTYPE=image/png:https://www.scappoosebay-wc.org/wp-content/uploads/friendsofbotanicalgardensflyer.png
END:VEVENT
BEGIN:VEVENT
DTSTART;TZID=America/Los_Angeles:20260425T073000
DTEND;TZID=America/Los_Angeles:20260425T090000
DTSTAMP:20260424T045257
CREATED:20260325T174050Z
LAST-MODIFIED:20260325T174050Z
UID:6617-1777102200-1777107600@www.scappoosebay-wc.org
SUMMARY:Earth Day Planting
DESCRIPTION:Join us for our Second Annual Earth Day Planting on April 25th from 7:30 am- 9:00 am on the Crown Zellerbach Trail. We will meet at Heritage Park at 7:30 am for check-in and then head to the intersection of the Crown Zellerbach Trail and Miller Road. Tools and gloves will be provided. Please wear closed toed shoes and bring a water bottle! \nRegistration is required: Sign Up Now!
URL:https://www.scappoosebay-wc.org/event/earth-day-planting-2026/
LOCATION:Heritage Park\, 52469 Southeast 2nd Street\, Scappoose\, OR\, 97056\, United States
ATTACH;FMTTYPE=image/jpeg:https://www.scappoosebay-wc.org/wp-content/uploads/FB_IMG_1774459834475.jpg
END:VEVENT
END:VCALENDAR