BEGIN:VCALENDAR
VERSION:2.0
PRODID:-//Scappoose Bay Watershed - ECPv6.15.20//NONSGML v1.0//EN
CALSCALE:GREGORIAN
METHOD:PUBLISH
X-WR-CALNAME:Scappoose Bay Watershed
X-ORIGINAL-URL:https://www.scappoosebay-wc.org
X-WR-CALDESC:Events for Scappoose Bay Watershed
REFRESH-INTERVAL;VALUE=DURATION:PT1H
X-Robots-Tag:noindex
X-PUBLISHED-TTL:PT1H
BEGIN:VTIMEZONE
TZID:America/Los_Angeles
BEGIN:DAYLIGHT
TZOFFSETFROM:-0800
TZOFFSETTO:-0700
TZNAME:PDT
DTSTART:20230312T100000
END:DAYLIGHT
BEGIN:STANDARD
TZOFFSETFROM:-0700
TZOFFSETTO:-0800
TZNAME:PST
DTSTART:20231105T090000
END:STANDARD
BEGIN:DAYLIGHT
TZOFFSETFROM:-0800
TZOFFSETTO:-0700
TZNAME:PDT
DTSTART:20240310T100000
END:DAYLIGHT
BEGIN:STANDARD
TZOFFSETFROM:-0700
TZOFFSETTO:-0800
TZNAME:PST
DTSTART:20241103T090000
END:STANDARD
BEGIN:DAYLIGHT
TZOFFSETFROM:-0800
TZOFFSETTO:-0700
TZNAME:PDT
DTSTART:20250309T100000
END:DAYLIGHT
BEGIN:STANDARD
TZOFFSETFROM:-0700
TZOFFSETTO:-0800
TZNAME:PST
DTSTART:20251102T090000
END:STANDARD
END:VTIMEZONE
BEGIN:VEVENT
DTSTART;TZID=America/Los_Angeles:20240723T083000
DTEND;TZID=America/Los_Angeles:20240723T143000
DTSTAMP:20260424T045740
CREATED:20240710T204230Z
LAST-MODIFIED:20240710T204230Z
UID:6146-1721723400-1721745000@www.scappoosebay-wc.org
SUMMARY:Ash Creek Apprenticeship/Volunteer Day
DESCRIPTION:Join us on July 23rd for a wonderful volunteer opportunity at Veterans Park.\n\nWho: You!\nWhat: Mulching around plants and weeding within our restoration site.\nWhere: Veterans Park in Scappoose\nWhen: July 23rd from 8:30am to 2:30pm\n\nAt this event we will have a wonderful group of apprentices from Ash Creek Forest Management helping us with our restoration site\, this will be primarily to help them with learning fundamental skills and hands on skills training!\nWe would love to open this opportunity up to the public for those that may want to join in and volunteer with us! Feel free to come and go any time within the time frame we will be there. \nScappoose Veterans Park Address: 52590 Captain Roger Kucera Way\, Scappoose\, OR 97056 \nQuestions:\nEmail projectmanager@scappoosebay-wc.org or call/text me at (503)-308-8605
URL:https://www.scappoosebay-wc.org/event/ash-creek-apprenticeship-volunteer-day/
LOCATION:Veterans Park – Scappoose\, Or\, 52590 Captain Roger Kucera Way\, Scappoose\, OR\, 97056\, United States
ATTACH;FMTTYPE=image/jpeg:https://www.scappoosebay-wc.org/wp-content/uploads/20231113_113220-scaled.jpg
END:VEVENT
BEGIN:VEVENT
DTSTART;TZID=America/Los_Angeles:20240727T100000
DTEND;TZID=America/Los_Angeles:20240727T150000
DTSTAMP:20260424T045740
CREATED:20240710T205001Z
LAST-MODIFIED:20240710T205001Z
UID:6149-1722074400-1722092400@www.scappoosebay-wc.org
SUMMARY:Clatskanie Farmer Collective's Pollination Celebration
DESCRIPTION:This month we are excited to be attending the Clatskanie Farmer Collective’s Pollination Celebration. \nVisit our booth to talk about native plants and their importance to native pollinators\, as well as the opportunity to purchase your own native plants! \nCheck out the Clatskanie Farmers Collective Website for more information and events\nhttps://clatskaniefarmercollective.org
URL:https://www.scappoosebay-wc.org/event/clatskanie-farmer-collectives-pollination-celebration/
LOCATION:Clatskanie Cope’s Park\, 300 Park St\, Clatskanie\, oregon\, 97061\, United States
ATTACH;FMTTYPE=image/jpeg:https://www.scappoosebay-wc.org/wp-content/uploads/unnamed.jpg
END:VEVENT
END:VCALENDAR