BEGIN:VCALENDAR
VERSION:2.0
PRODID:-//Scappoose Bay Watershed - ECPv6.15.20//NONSGML v1.0//EN
CALSCALE:GREGORIAN
METHOD:PUBLISH
X-WR-CALNAME:Scappoose Bay Watershed
X-ORIGINAL-URL:https://www.scappoosebay-wc.org
X-WR-CALDESC:Events for Scappoose Bay Watershed
REFRESH-INTERVAL;VALUE=DURATION:PT1H
X-Robots-Tag:noindex
X-PUBLISHED-TTL:PT1H
BEGIN:VTIMEZONE
TZID:America/Los_Angeles
BEGIN:DAYLIGHT
TZOFFSETFROM:-0800
TZOFFSETTO:-0700
TZNAME:PDT
DTSTART:20250309T100000
END:DAYLIGHT
BEGIN:STANDARD
TZOFFSETFROM:-0700
TZOFFSETTO:-0800
TZNAME:PST
DTSTART:20251102T090000
END:STANDARD
BEGIN:DAYLIGHT
TZOFFSETFROM:-0800
TZOFFSETTO:-0700
TZNAME:PDT
DTSTART:20260308T100000
END:DAYLIGHT
BEGIN:STANDARD
TZOFFSETFROM:-0700
TZOFFSETTO:-0800
TZNAME:PST
DTSTART:20261101T090000
END:STANDARD
BEGIN:DAYLIGHT
TZOFFSETFROM:-0800
TZOFFSETTO:-0700
TZNAME:PDT
DTSTART:20270314T100000
END:DAYLIGHT
BEGIN:STANDARD
TZOFFSETFROM:-0700
TZOFFSETTO:-0800
TZNAME:PST
DTSTART:20271107T090000
END:STANDARD
END:VTIMEZONE
BEGIN:VEVENT
DTSTART;TZID=America/Los_Angeles:20260302T173000
DTEND;TZID=America/Los_Angeles:20260302T193000
DTSTAMP:20260420T011340
CREATED:20260211T190700Z
LAST-MODIFIED:20260211T190700Z
UID:6573-1772472600-1772479800@www.scappoosebay-wc.org
SUMMARY:Planning You Garden for Seed Saving
DESCRIPTION:Monday March 2nd 5:30 pm \nColumbia County Extension – 505 N Columbia River Hwy St. Helens\, OR \nPresented by Amy Corris \nAmy is an unapologetic plant nerd who believes every seed has a story. She teaches about seed saving as both an art and a small act of optimism for the future. She believes good gardens are grown with curiosity\, generosity\, and a willingness to experiment – and she’s never met a seed packet she didn’t want to open. \nThe art of saving seeds begins when you plan your garden. This workshop will help you learn about the pollination needs of your plants and help you meet their needs in order to provide heirloom seeds for future gardens. \n 
URL:https://www.scappoosebay-wc.org/event/planning-you-garden-for-seed-saving/
LOCATION:Columbia County OSU Extension Office\, 505 North Columbia River Highway\, St Helens\, OR\, 97051\, United States
ATTACH;FMTTYPE=image/jpeg:https://www.scappoosebay-wc.org/wp-content/uploads/seed-saving-spring-workshop.jpg
END:VEVENT
BEGIN:VEVENT
DTSTART;TZID=America/Los_Angeles:20260307T083000
DTEND;TZID=America/Los_Angeles:20260307T133000
DTSTAMP:20260420T011340
CREATED:20260217T225649Z
LAST-MODIFIED:20260217T225650Z
UID:6582-1772872200-1772890200@www.scappoosebay-wc.org
SUMMARY:Columbia County Small Woodlands Association Seedling Sale (27th Annual)
DESCRIPTION:Columbia County Small Woodlands Association \n27th Annual Seedling Sale – 1000’s of Trees\, Shrubs and Ornamentals \nSaturday\, March 7\, 2026\,\nColumbia County Fairgrounds\n58892 Saulser Rd\, St. Helens\, Oregon \nSPECIES: Douglas Fir* ● Western Red Cedar* ● Coast \nRedwood* ● Noble Fir ● Grand Fir ● Nordman Fir ● Western \nHemlock ● Ponderosa Valley Pine ● Deodora Cedar ● Sweetbay \nMagnolia ● Incense Cedar ● Redosier Dogwood ● Giant Sequoia \n● Mock Orange ● Flowering Dogwood ● Black Twinberry ● Purple \nLilac ● Red Flowering Currant ● Indian Plum ● Western \nServiceberry ● Oregon Viburnum ● Dolgo Crabapple \n*Bag quantities limited \nBrowse protection available \nMost seedlings are bare root\, and ready to plant \n8:30 AM – 1:30 PM\, Rain or Shine! \nBe sure to arrive early for the best selections! \n$1.50 to $7.00 (cash and checks only)
URL:https://www.scappoosebay-wc.org/event/columbia-county-small-woodlands-association-seedling-sale-27th-annual/
LOCATION:OR
ATTACH;FMTTYPE=image/jpeg:https://www.scappoosebay-wc.org/wp-content/uploads/2026-Flyer-Full-page-rev2.jpg
END:VEVENT
BEGIN:VEVENT
DTSTART;TZID=America/Los_Angeles:20260307T090000
DTEND;TZID=America/Los_Angeles:20260307T110000
DTSTAMP:20260420T011340
CREATED:20260303T191910Z
LAST-MODIFIED:20260303T191910Z
UID:6604-1772874000-1772881200@www.scappoosebay-wc.org
SUMMARY:Scappoose Annual Town Meeting
DESCRIPTION:Come stop by our table at the Scappoose Annual Town Meeting and hear the State of the City Address from Mayor Joe Backus.
URL:https://www.scappoosebay-wc.org/event/scappoose-annual-town-meeting/
LOCATION:OR
ATTACH;FMTTYPE=image/png:https://www.scappoosebay-wc.org/wp-content/uploads/2026-Annual-Town-Meeting-flyer.png
END:VEVENT
BEGIN:VEVENT
DTSTART;TZID=America/Los_Angeles:20260307T180000
DTEND;TZID=America/Los_Angeles:20260307T190000
DTSTAMP:20260420T011340
CREATED:20260217T230011Z
LAST-MODIFIED:20260217T230146Z
UID:6586-1772906400-1772910000@www.scappoosebay-wc.org
SUMMARY:Columbia County Tree Seedlings and Planting Q&A
DESCRIPTION:Date: Saturday\, 3/7 at 6pm\nLocation: Zoom\nRegistration: https://beav.es/THr\n\nDetails: You’ve just bought your tree and shrub seedlings for your property…but what do you do next? Join Columbia County Small Woodlands Association and OSU Extension for an informal Q&A session on Zoom to get your questions answered and to chat with experts about caring for seedlings and best practices for planting. Please register using the link to receive the Zoom meeting invitation. Reach out to Jake Barker for any questions or help registering: jake.barker@oregonstate.edu
URL:https://www.scappoosebay-wc.org/event/columbia-county-tree-seedlings-and-planting-qa/
LOCATION:OR
ATTACH;FMTTYPE=image/jpeg:https://www.scappoosebay-wc.org/wp-content/uploads/Seedling-and-Planting-QA-1.pdf.jpg
END:VEVENT
BEGIN:VEVENT
DTSTART;TZID=America/Los_Angeles:20260311T160000
DTEND;TZID=America/Los_Angeles:20260311T180000
DTSTAMP:20260420T011340
CREATED:20260224T195706Z
LAST-MODIFIED:20260224T195724Z
UID:6592-1773244800-1773252000@www.scappoosebay-wc.org
SUMMARY:Turtle and Amphibian Forum
DESCRIPTION:SBWC presents our March Turtle and Amphibian Forum on Wednesday\, March 11th from 4 pm to 6 pm via Zoom. We will hear from conservation and Herpetology experts about a variety of turtle and amphibian topics including: ODFW herp species priorities\, wildlife crossings\, amphibian surveys\, local areas of conservation priority\, impacts of development on amphibians and more! \nThis forum is a follow up to 1st Turtle and Amphibian Forum \nPresenters: \n\nSusan Barnes Regional Wildlife Conservation Biologist West Region (NW)\nJon Hakim Herpetologist of Wild Columbia\nAleta Quinn Co-Author of “THE RESILIENT REMNANT IN A HUMAN-ALTERED LANDSCAPE: AMPHIBIANS AND REPTILES OF COLUMBIA COUNTY\, OREGON”\n\nRegistration is required
URL:https://www.scappoosebay-wc.org/event/turtle-and-amphibian-forum/
LOCATION:OR
ATTACH;FMTTYPE=image/png:https://www.scappoosebay-wc.org/wp-content/uploads/TurtleAmphibianForumSocial.png
END:VEVENT
BEGIN:VEVENT
DTSTART;TZID=America/Los_Angeles:20260326T160000
DTEND;TZID=America/Los_Angeles:20260326T180000
DTSTAMP:20260420T011340
CREATED:20260302T172316Z
LAST-MODIFIED:20260302T172317Z
UID:6600-1774540800-1774548000@www.scappoosebay-wc.org
SUMMARY:Common Misconceptions of Herbicide in Restoration
DESCRIPTION:Get answers to your herbicides questions such as: \n\nWhy are herbicides part of stream restoration projects?\nWhat plants are targeted with herbicide and why?\nHow does the Scappoose Bay Watershed Council utiltize herbicides?\nAnd more!\n\nPresenters: \n\nChip Bubl Retired from the OSU Extension Service\nGilli Williford SBWC Vegetation Manager\n\nRegistration is required
URL:https://www.scappoosebay-wc.org/event/common-misconceptions-of-herbicide-in-restoration/
LOCATION:OR
ATTACH;FMTTYPE=image/png:https://www.scappoosebay-wc.org/wp-content/uploads/Herbicide-Forum.png
END:VEVENT
BEGIN:VEVENT
DTSTART;TZID=America/Los_Angeles:20260328T090000
DTEND;TZID=America/Los_Angeles:20260328T123000
DTSTAMP:20260420T011340
CREATED:20260211T185914Z
LAST-MODIFIED:20260211T185915Z
UID:6570-1774688400-1774701000@www.scappoosebay-wc.org
SUMMARY:McCormick Park Volunteer Work Party
DESCRIPTION:Join the Friends of McCormick Park and Scappoose Bay Watershed Council for a volunteer work party on March 28th at 9 am – 12:30 pm to: \n\nRemove invasive plants\nCreate habitat\nAnd build community\n\nMeet us by the BMX Track. Come dressed for the weather. We will provide tools\, gloves\, and snacks.
URL:https://www.scappoosebay-wc.org/event/mccormick-park-volunteer-work-party/
LOCATION:McCormick Park\, 475 S 18th St\, St Helens\, OR\, 97051\, United States
ATTACH;FMTTYPE=image/png:https://www.scappoosebay-wc.org/wp-content/uploads/Untitled-3-scaled.png
END:VEVENT
END:VCALENDAR